BEGIN:VCALENDAR
VERSION:2.0
PRODID:-//Michael Angstadt//biweekly 0.6.8//EN
NAME:Kalendář SPLM 00000199-9439-dd43-addd-ff7f12c50000
URL:https://www.splm.cz
SOURCE:https://www.splm.cz/api/calendar/ics?year=&eventId=00000199-9439-dd4
 3-addd-ff7f12c50000
COLOR:#BA0C0C
LAST-MODIFIED:20260415T051451Z
BEGIN:VEVENT
DTSTAMP:20260422T100817Z
DTSTART:20260505T113029Z
DTEND:20260505T140050Z
SUMMARY:Infection mimics. Pravidelný seminář.
DESCRIPTION:Infection mimics. Pravidelný seminář.
LOCATION:Lékařský dům
ORGANIZER;CN="Společnost infekčního lékařství ČLS JEP; Společnost pro lékař
 skou mikrobiologii ČLS JEP":
STATUS:CONFIRMED
COLOR:#0cc606
UID:00000199-9439-dd43-addd-ff7f12c50000
URL:https://www.splm.cz/event/infection-mimics-2026-05-05
END:VEVENT
END:VCALENDAR
