BEGIN:VCALENDAR
VERSION:2.0
PRODID:-//Michael Angstadt//biweekly 0.6.8//EN
NAME:Kalendář SPLM 00000192-42cb-db24-ab97-77db28d00000
URL:https://www.splm.cz
SOURCE:https://www.splm.cz/api/calendar/ics?year=&eventId=00000192-42cb-db2
 4-ab97-77db28d00000
COLOR:#BA0C0C
LAST-MODIFIED:20250515T055341Z
BEGIN:VEVENT
DTSTAMP:20260420T080228Z
DTSTART:20250603T113013Z
DTEND:20250603T150037Z
SUMMARY:Očkování vybraných skupin populace. Pravidelný seminář.
DESCRIPTION:Očkování vybraných skupin populace. Pravidelný seminář.
LOCATION:Lékařský dům
ORGANIZER;CN="prof. MUDr. Petr Pazdiora, CSc.; Společnost pro epidemiologii 
 a mikrobiologii ČLS JEP":
STATUS:CONFIRMED
COLOR:#0cc606
UID:00000192-42cb-db24-ab97-77db28d00000
URL:https://www.splm.cz/event/ockovani-vybranych-skupin-populace-2025-06-03
END:VEVENT
END:VCALENDAR
